Workbook

Sheet 参加申込書
B1: 申込先 | D1: 福島県ハンドボール協会 社会人部 行
B2: メール | D2: gakuseki.club@gmail.com
B4: 令和８年度 第２３回東北ハンドボールマスターズ大会 参加申込書
B6: チーム名 | F6: 種 別 | G6: 男 子 ・ 女 子
B7: 責任者氏名 | F7: 自宅Ｔｅｌ
B8: 住 所 | D8: 〒 | F8: 自宅Ｆａｘ
B9: 勤 務 先 | F9: 勤務先Ｔｅｌ
B10: 勤務先住所 | D10: 〒 | F10: 勤務先Ｆａｘ
B11: E－ｍａｉｌ | F11: 携帯Ｔｅｌ
D12: 氏 名 | E12: 年齢 | F12: 生年月日（西暦） | G12: 勤 務 先
B13: 役員A
B14: 役員B
B15: 役員C
B16: 役員D
B17: ↑ 監督には◎印を、競技運営委員（３名）には○印を役員A～Eの隣につけてください
B19: ■選手の申し込み ※役員等で、選手として出場する場合は、下記に記入願います。
B20: 選 手 № | D20: 氏 名 | E20: 年齢 | F20: 生年月日（西暦） | G20: 勤 務 先 | I20: 正直年齢 | J20: 判定結果
B21: 記載例 | D21: 決着葉 渾身会太 | E21: 53 | F21: 27102 | G21: （株）滑川産業 | I21: =IF(F21="","",DATEDIF(F21,TODAY(),"Y")) -> 52 | J21: =IF(F21="","",IF(I21=E21,"正直に申告しています。",IF(I21>E21,"逆サバをよんでいます。","サバをよんでいます。"))) -> サバをよんでいます。
B22: 1 | I22: =IF(F22="","",DATEDIF(F22,TODAY(),"Y")) | J22: =IF(F22="","",IF(I22=E22,"正直に申告しています。",IF(I22>E22,"逆サバをよんでいます。","サバをよんでいます。")))
B23: 2 | I23: =IF(F23="","",DATEDIF(F23,TODAY(),"Y")) | J23: =IF(F23="","",IF(I23=E23,"正直に申告しています。",IF(I23>E23,"逆サバをよんでいます。","サバをよんでいます。")))
B24: 3 | I24: =IF(F24="","",DATEDIF(F24,TODAY(),"Y")) | J24: =IF(F24="","",IF(I24=E24,"正直に申告しています。",IF(I24>E24,"逆サバをよんでいます。","サバをよんでいます。")))
B25: 4 | I25: =IF(F25="","",DATEDIF(F25,TODAY(),"Y")) | J25: =IF(F25="","",IF(I25=E25,"正直に申告しています。",IF(I25>E25,"逆サバをよんでいます。","サバをよんでいます。")))
B26: 5 | I26: =IF(F26="","",DATEDIF(F26,TODAY(),"Y")) | J26: =IF(F26="","",IF(I26=E26,"正直に申告しています。",IF(I26>E26,"逆サバをよんでいます。","サバをよんでいます。")))
B27: 6 | I27: =IF(F27="","",DATEDIF(F27,TODAY(),"Y")) | J27: =IF(F27="","",IF(I27=E27,"正直に申告しています。",IF(I27>E27,"逆サバをよんでいます。","サバをよんでいます。")))
B28: 7 | I28: =IF(F28="","",DATEDIF(F28,TODAY(),"Y")) | J28: =IF(F28="","",IF(I28=E28,"正直に申告しています。",IF(I28>E28,"逆サバをよんでいます。","サバをよんでいます。")))
B29: 8 | I29: =IF(F29="","",DATEDIF(F29,TODAY(),"Y")) | J29: =IF(F29="","",IF(I29=E29,"正直に申告しています。",IF(I29>E29,"逆サバをよんでいます。","サバをよんでいます。")))
B30: 9 | I30: =IF(F30="","",DATEDIF(F30,TODAY(),"Y")) | J30: =IF(F30="","",IF(I30=E30,"正直に申告しています。",IF(I30>E30,"逆サバをよんでいます。","サバをよんでいます。")))
B31: 10 | I31: =IF(F31="","",DATEDIF(F31,TODAY(),"Y")) | J31: =IF(F31="","",IF(I31=E31,"正直に申告しています。",IF(I31>E31,"逆サバをよんでいます。","サバをよんでいます。")))
B32: 11 | I32: =IF(F32="","",DATEDIF(F32,TODAY(),"Y")) | J32: =IF(F32="","",IF(I32=E32,"正直に申告しています。",IF(I32>E32,"逆サバをよんでいます。","サバをよんでいます。")))
B33: 12 | I33: =IF(F33="","",DATEDIF(F33,TODAY(),"Y")) | J33: =IF(F33="","",IF(I33=E33,"正直に申告しています。",IF(I33>E33,"逆サバをよんでいます。","サバをよんでいます。")))
... B41: 20 | I41: =IF(F41="","",DATEDIF(F41,TODAY(),"Y")) | J41: =IF(F41="","",IF(I41=E41,"正直に申告しています。",IF(I41>E41,"逆サバをよんでいます。","サバをよんでいます。")))
F43: 令和 年 月 日
B44: 上記のとおり、本大会の参加を申し込みます。
D46: チーム責任者

Sheet 宿泊・懇親会申込書
B1: 申し込み先 | C1: 福島県ハンドボール協会
B2: メール | C2: gakuseki.club@gmail.com
B4: 令和８年度 第２３回東北ハンドボールマスターズ大会 宿泊・懇親会申込書
B6: チーム名 | G6: 種 別 | H6: 男 子 ・ 女 子
B7: 責任者氏名 | G7: 連絡先Ｔｅｌ （携帯） | O7: ○
B9: ■役員分の申し込み | E9: 宿 泊 | J9: 懇親会 のみ （宿泊無）
B10: 選手と重複しないようにご注意願います。 | E10: 1月8日（金） | G10: 1月9日（土）
B11: 役 員 № | C11: 氏 名 | D11: 男女 | E11: 朝食のみ | F11: ２食付き | G11: 朝食のみ | H11: ２食付き (懇親会無) | I11: 懇親会有
B12: 記載例 | C12: 決着葉 渾身会太 | D12: 男 | E12: ○ | I12: ○
B13: 1 | C13: =IF(参加申込書!D13="","",参加申込書!D13) | D13: 男・女
B14: 2 | C14: =IF(参加申込書!D14="","",参加申込書!D14) | D14: 男・女
B15: 3 | C15: =IF(参加申込書!D15="","",参加申込書!D15) | D15: 男・女
B16: 4 | C16: =IF(参加申込書!D16="","",参加申込書!D16) | D16: 男・女
D17: 計 | E17: =COUNTIF(E13:E16,"○") -> 0 | F17: =COUNTIF(F13:F16,"○") -> 0 | G17: =COUNTIF(G13:G16,"○") -> 0 | H17: =COUNTIF(H13:H16,"○") -> 0 | I17: =COUNTIF(I13:I16,"○") -> 0 | J17: =COUNTIF(J13:J16,"○") -> 0
B19: ■選手分の申し込み | E19: 宿 泊 | J19: 懇親会 のみ （宿泊無）
B20: 役員と重複しないようにご注意願います。 | E20: =E10 -> 1月8日（金） | G20: =G10 -> 1月9日（土）
B21: 選 手 № | C21: 氏 名 | D21: 男女 | E21: 朝食のみ | F21: ２食付き | G21: 朝食のみ | H21: ２食付き (懇親会無) | I21: 懇親会有
B22: 1 | C22: =IF(参加申込書!D22="","",参加申込書!D22) | D22: 男・女
B23: 2 | C23: =IF(参加申込書!D23="","",参加申込書!D23) | D23: 男・女
B24: 3 | C24: =IF(参加申込書!D24="","",参加申込書!D24) | D24: 男・女
B25: 4 | C25: =IF(参加申込書!D25="","",参加申込書!D25) | D25: 男・女
B26: 5 | C26: =IF(参加申込書!D26="","",参加申込書!D26) | D26: 男・女
B27: 6 | C27: =IF(参加申込書!D27="","",参加申込書!D27) | D27: 男・女
B28: 7 | C28: =IF(参加申込書!D28="","",参加申込書!D28) | D28: 男・女
B29: 8 | C29: =IF(参加申込書!D29="","",参加申込書!D29) | D29: 男・女
B30: 9 | C30: =IF(参加申込書!D30="","",参加申込書!D30) | D30: 男・女
B31: 10 | C31: =IF(参加申込書!D31="","",参加申込書!D31) | D31: 男・女
B32: 11 | C32: =IF(参加申込書!D32="","",参加申込書!D32) | D32: 男・女
B33: 12 | C33: =IF(参加申込書!D33="","",参加申込書!D33) | D33: 男・女
... B41: 20 | C41: =IF(参加申込書!D41="","",参加申込書!D41) | D41: 男・女
D42: 計 | E42: =COUNTIF(E22:E41,"○") -> 0 | F42: =COUNTIF(F22:F41,"○") -> 0 | G42: =COUNTIF(G22:G41,"○") -> 0 | H42: =COUNTIF(H22:H41,"○") -> 0 | I42: =COUNTIF(I22:I41,"○") -> 0 | J42: =COUNTIF(J22:J41,"○") -> 0
B44: ■役員・選手以外の申し込み | E44: 宿 泊 | J44: 懇親会 のみ （宿泊無）
E45: =E20 -> 1月8日（金） | G45: =G20 -> 1月9日（土）
B46: 役 員 № | C46: 氏 名 | D46: 男女 | E46: 朝食のみ | F46: ２食付き | G46: 朝食のみ | H46: ２食付き (懇親会無) | I46: 懇親会有
B47: 1 | D47: 男・女 | O47: ※中学以上は、大人と同額です。
B48: 2 | D48: 男・女 | O48: ○
B49: 3 | D49: 男・女 | O49: 小学生
B50: 4 | D50: 男・女 | O50: 未就学児
B51: 5 | D51: 男・女
B52: 6 | D52: 男・女
B53: 7 | D53: 男・女
B54: 8 | D54: 男・女
B55: 9 | D55: 男・女
B56: 10 | D56: 男・女
E57: =COUNTIF(E47:E56,"○") -> 0 | F57: =COUNTIF(F47:F56,"○") -> 0 | G57: =COUNTIF(G47:G56,"○") -> 0 | H57: =COUNTIF(H47:H56,"○") -> 0 | I57: =COUNTIF(I47:I56,"○") -> 0 | J57: =COUNTIF(J47:J56,"○") -> 0
B60: ★ 上記集計表 | D60: ※ 宿泊費は、指定された期日までに要項に記載された口座にお振り込みください。なお、振込手数料は参加者負担とします。
E61: 宿 泊 | J61: 懇親会 のみ （宿泊無） | K61: 宿泊は一室５名様利用料金です
E62: =E10 -> 1月8日（金） | G62: =G10 -> 1月9日（土） | K62: 減員利用の場合、別途追加料金
B63: 申 込 内 容 | E63: 朝食のみ | F63: ２食付き | G63: 朝食のみ | H63: ２食付き (懇親会無) | I63: 懇親会有 | K63: 発生しますのでご注意下さい。
D64: 大人 | E64: 9470 | F64: 14750 | G64: 11010 | H64: 16950 | I64: 20250 | J64: 16390 | K64: 宿泊 ：１泊２食付、1泊朝食付は
D65: 小学生 | E65: 5624 | F65: 9320 | G65: 6702 | H65: 10860 | I65: 11960 | J65: 14190 | K65: 「福島県また来て割り▲3000円」
D66: 未就学児 | E66: 3160 | F66: 5800 | G66: 3930 | H66: 6900 | I66: 8000 | J66: 10450 | K66: 割引適応時の金額にて算出して
B67: ■役員分の申し込み | E67: =E17 -> 0 | F67: =F17 -> 0 | G67: =G17 -> 0 | H67: =H17 -> 0 | I67: =I17 -> 0 | J67: =J17 -> 0 | K67: あります。
B68: ■選手分の申し込み | E68: =E42 -> 0 | F68: =F42 -> 0 | G68: =G42 -> 0 | H68: =H42 -> 0 | I68: =I42 -> 0 | J68: =J42 -> 0
B69: ■役員・選手以外の申し込み(大人） | E69: =E57 -> 0 | F69: =F57 -> 0 | G69: =G57 -> 0 | H69: =H57 -> 0 | I69: =I57 -> 0 | J69: =J57 -> 0 | K69: 幼児(2歳以下)、乳児について
B70: ■役員・選手以外の申し込み（小学生） | E70: =COUNTIFS($E$47:$E$56,$D$65) -> 0 | F70: =COUNTIFS($F$47:$F$56,$D$65) -> 0 | G70: =COUNTIFS($G$47:$G$56,$D$65) -> 0 | H70: =COUNTIFS($H$47:$H$56,$D$65) -> 0 | I70: =COUNTIFS($I$47:$I$56,$D$65) -> 0 | J70: =COUNTIFS($J$47:$J$56,$D$65) -> 0 | K70: は、お問い合わせください。
B71: ■役員・選手以外の申し込み（未就学児） | E71: =COUNTIFS($E$47:$E$56,$D$66) -> 0 | F71: =COUNTIFS($F$47:$F$56,$D$66) -> 0 | G71: =COUNTIFS($G$47:$G$56,$D$66) -> 0 | H71: =COUNTIFS($H$47:$H$56,$D$66) -> 0 | I71: =COUNTIFS($I$47:$I$56,$D$66) -> 0 | J71: =COUNTIFS($J$47:$J$56,$D$66) -> 0
B72: 申込者数合計 | E72: =SUM(E67:E71) -> 0 | F72: =SUM(F67:F71) -> 0 | G72: =SUM(G67:G71) -> 0 | H72: =SUM(H67:H71) -> 0 | I72: =SUM(I67:I71) -> 0 | J72: =SUM(J67:J71) -> 0
B73: 役員・選手申込金額小計 | E73: =(E67+E68)*E64 -> 0 | F73: =(F67+F68)*F64 -> 0 | G73: =(G67+G68)*G64 -> 0 | H73: =(H67+H68)*H64 -> 0 | I73: =(I67+I68)*I64 -> 0 | J73: =(J67+J68)*J64 -> 0
B74: 役員・選手以外の申込(大人)金額小計 | E74: =E69*E64 -> 0 | F74: =F69*F64 -> 0 | G74: =G69*G64 -> 0 | H74: =H69*H64 -> 0 | I74: =I69*I64 -> 0 | J74: =J69*J64 -> 0
B75: 役員・選手以外の申込(小学生)金額小計 | E75: =E70*E65 -> 0 | F75: =F70*F65 -> 0 | G75: =G70*G65 -> 0 | H75: =H70*H65 -> 0 | I75: =I70*I65 -> 0 | J75: =J70*J65 -> 0
B76: 役員・選手以外の申込(未就学児)金額小計 | E76: =E71*E66 -> 0 | F76: =F71*F66 -> 0 | G76: =G71*G66 -> 0 | H76: =H71*H66 -> 0 | I76: =I71*I66 -> 0 | J76: =J71*J66 -> 0
B77: 申 込 金 額 計 | E77: =SUM(E73:E76) -> 0 | F77: =SUM(F73:F76) -> 0 | G77: =SUM(G73:G76) -> 0 | H77: =SUM(H73:H76) -> 0 | I77: =SUM(I73:I76) -> 0 | J77: =SUM(J73:J76) -> 0
G78: 申 込 金 額 合 計 | I78: =SUM(E77:J77) -> 0
