Workbook

Sheet 参加申込書
B1: 申込先 | D1: 福島県ハンドボール協会 社会人部 行
B2: メール | D2: gakuseki.club@gmail.com
B4: 令和８年度 第２３回東北ハンドボールマスターズ大会 参加申込書
B6: チーム名 | F6: 種 別 | G6: 男 子 ・ 女 子
B7: 責任者氏名 | F7: 自宅Ｔｅｌ
B8: 住 所 | D8: 〒 | F8: 自宅Ｆａｘ
B9: 勤 務 先 | F9: 勤務先Ｔｅｌ
B10: 勤務先住所 | D10: 〒 | F10: 勤務先Ｆａｘ
B11: E－ｍａｉｌ | F11: 携帯Ｔｅｌ
D12: 氏 名 | E12: 年齢 | F12: 生年月日（西暦） | G12: 勤 務 先
B13: 役員A
B14: 役員B
B15: 役員C
B16: 役員D
B17: ↑ 監督には◎印を、競技運営委員（３名）には○印を役員A～Eの隣につけてください
B19: ■選手の申し込み ※役員等で、選手として出場する場合は、下記に記入願います。
B20: 選 手 № | D20: 氏 名 | E20: 年齢 | F20: 生年月日（西暦） | G20: 勤 務 先 | I20: 正直年齢 | J20: 判定結果
B21: 記載例 | D21: 決着葉 渾身会太 | E21: 53 | F21: 27102 | G21: （株）滑川産業 | I21: =IF(F21="","",DATEDIF(F21,TODAY(),"Y")) -> 52 | J21: =IF(F21="","",IF(I21=E21,"正直に申告しています。",IF(I21>E21,"逆サバをよんでいます。","サバをよんでいます。"))) -> サバをよんでいます。
B22: 1 | I22: =IF(F22="","",DATEDIF(F22,TODAY(),"Y")) | J22: =IF(F22="","",IF(I22=E22,"正直に申告しています。",IF(I22>E22,"逆サバをよんでいます。","サバをよんでいます。")))
B23: 2 | I23: =IF(F23="","",DATEDIF(F23,TODAY(),"Y")) | J23: =IF(F23="","",IF(I23=E23,"正直に申告しています。",IF(I23>E23,"逆サバをよんでいます。","サバをよんでいます。")))
B24: 3 | I24: =IF(F24="","",DATEDIF(F24,TODAY(),"Y")) | J24: =IF(F24="","",IF(I24=E24,"正直に申告しています。",IF(I24>E24,"逆サバをよんでいます。","サバをよんでいます。")))
B25: 4 | I25: =IF(F25="","",DATEDIF(F25,TODAY(),"Y")) | J25: =IF(F25="","",IF(I25=E25,"正直に申告しています。",IF(I25>E25,"逆サバをよんでいます。","サバをよんでいます。")))
B26: 5 | I26: =IF(F26="","",DATEDIF(F26,TODAY(),"Y")) | J26: =IF(F26="","",IF(I26=E26,"正直に申告しています。",IF(I26>E26,"逆サバをよんでいます。","サバをよんでいます。")))
B27: 6 | I27: =IF(F27="","",DATEDIF(F27,TODAY(),"Y")) | J27: =IF(F27="","",IF(I27=E27,"正直に申告しています。",IF(I27>E27,"逆サバをよんでいます。","サバをよんでいます。")))
B28: 7 | I28: =IF(F28="","",DATEDIF(F28,TODAY(),"Y")) | J28: =IF(F28="","",IF(I28=E28,"正直に申告しています。",IF(I28>E28,"逆サバをよんでいます。","サバをよんでいます。")))
B29: 8 | I29: =IF(F29="","",DATEDIF(F29,TODAY(),"Y")) | J29: =IF(F29="","",IF(I29=E29,"正直に申告しています。",IF(I29>E29,"逆サバをよんでいます。","サバをよんでいます。")))
B30: 9 | I30: =IF(F30="","",DATEDIF(F30,TODAY(),"Y")) | J30: =IF(F30="","",IF(I30=E30,"正直に申告しています。",IF(I30>E30,"逆サバをよんでいます。","サバをよんでいます。")))
B31: 10 | I31: =IF(F31="","",DATEDIF(F31,TODAY(),"Y")) | J31: =IF(F31="","",IF(I31=E31,"正直に申告しています。",IF(I31>E31,"逆サバをよんでいます。","サバをよんでいます。")))
B32: 11 | I32: =IF(F32="","",DATEDIF(F32,TODAY(),"Y")) | J32: =IF(F32="","",IF(I32=E32,"正直に申告しています。",IF(I32>E32,"逆サバをよんでいます。","サバをよんでいます。")))
B33: 12 | I33: =IF(F33="","",DATEDIF(F33,TODAY(),"Y")) | J33: =IF(F33="","",IF(I33=E33,"正直に申告しています。",IF(I33>E33,"逆サバをよんでいます。","サバをよんでいます。")))
... B41: 20 | I41: =IF(F41="","",DATEDIF(F41,TODAY(),"Y")) | J41: =IF(F41="","",IF(I41=E41,"正直に申告しています。",IF(I41>E41,"逆サバをよんでいます。","サバをよんでいます。")))
F43: 令和 年 月 日
B44: 上記のとおり、本大会の参加を申し込みます。
D46: チーム責任者

Sheet 宿泊・懇親会申込書
B1: 申し込み先 | C1: 福島県ハンドボール協会
B2: メール | C2: gakuseki.club@gmail.com
B4: 令和８年度 第２３回東北ハンドボールマスターズ大会 宿泊・懇親会申込書
B6: チーム名 | G6: 種 別 | H6: 男 子 ・ 女 子
B7: 責任者氏名 | G7: 連絡先Ｔｅｌ （携帯） | O7: ○
B9: ■役員分の申し込み | E9: 宿 泊 | J9: 懇親会 のみ （宿泊無）
B10: 選手と重複しないようにご注意願います。 | E10: 1月8日（金） | G10: 1月9日（土）
B11: 役 員 № | C11: 氏 名 | D11: 男女 | E11: 朝食のみ | F11: ２食付き | G11: 朝食のみ | H11: ２食付き (懇親会無) | I11: 懇親会有
B12: 記載例 | C12: 決着葉 渾身会太 | D12: 男 | E12: ○ | I12: ○
B13: 1 | C13: =IF(参加申込書!D13="","",参加申込書!D13) | D13: 男・女
B14: 2 | C14: =IF(参加申込書!D14="","",参加申込書!D14) | D14: 男・女
B15: 3 | C15: =IF(参加申込書!D15="","",参加申込書!D15) | D15: 男・女
B16: 4 | C16: =IF(参加申込書!D16="","",参加申込書!D16) | D16: 男・女
D17: 計 | E17: =COUNTIF(E13:E16,"○") -> 0 | F17: =COUNTIF(F13:F16,"○") -> 0 | G17: =COUNTIF(G13:G16,"○") -> 0 | H17: =COUNTIF(H13:H16,"○") -> 0 | I17: =COUNTIF(I13:I16,"○") -> 0 | J17: =COUNTIF(J13:J16,"○") -> 0
B19: ■選手分の申し込み | E19: 宿 泊 | J19: 懇親会 のみ （宿泊無）
B20: 役員と重複しないようにご注意願います。 | E20: =E10 -> 1月8日（金） | G20: =G10 -> 1月9日（土）
B21: 選 手 № | C21: 氏 名 | D21: 男女 | E21: 朝食のみ | F21: ２食付き | G21: 朝食のみ | H21: ２食付き (懇親会無) | I21: 懇親会有
B22: 1 | C22: =IF(参加申込書!D22="","",参加申込書!D22) | D22: 男・女
B23: 2 | C23: =IF(参加申込書!D23="","",参加申込書!D23) | D23: 男・女
B24: 3 | C24: =IF(参加申込書!D24="","",参加申込書!D24) | D24: 男・女
B25: 4 | C25: =IF(参加申込書!D25="","",参加申込書!D25) | D25: 男・女
B26: 5 | C26: =IF(参加申込書!D26="","",参加申込書!D26) | D26: 男・女
B27: 6 | C27: =IF(参加申込書!D27="","",参加申込書!D27) | D27: 男・女
B28: 7 | C28: =IF(参加申込書!D28="","",参加申込書!D28) | D28: 男・女
B29: 8 | C29: =IF(参加申込書!D29="","",参加申込書!D29) | D29: 男・女
B30: 9 | C30: =IF(参加申込書!D30="","",参加申込書!D30) | D30: 男・女
B31: 10 | C31: =IF(参加申込書!D31="","",参加申込書!D31) | D31: 男・女
B32: 11 | C32: =IF(参加申込書!D32="","",参加申込書!D32) | D32: 男・女
B33: 12 | C33: =IF(参加申込書!D33="","",参加申込書!D33) | D33: 男・女
... B41: 20 | C41: =IF(参加申込書!D41="","",参加申込書!D41) | D41: 男・女
D42: 計 | E42: =COUNTIF(E22:E41,"○") -> 0 | F42: =COUNTIF(F22:F41,"○") -> 0 | G42: =COUNTIF(G22:G41,"○") -> 0 | H42: =COUNTIF(H22:H41,"○") -> 0 | I42: =COUNTIF(I22:I41,"○") -> 0 | J42: =COUNTIF(J22:J41,"○") -> 0
B44: ■役員・選手以外の申し込み | E44: 宿 泊 | J44: 懇親会 のみ （宿泊無）
E45: =E20 -> 1月8日（金） | G45: =G20 -> 1月9日（土）
B46: 役 員 № | C46: 氏 名 | D46: 男女 | E46: 朝食のみ | F46: ２食付き | G46: 朝食のみ | H46: ２食付き (懇親会無) | I46: 懇親会有
B47: 1 | D47: 男・女 | O47: ※中学以上は、大人と同額です。
B48: 2 | D48: 男・女 | O48: ○
B49: 3 | D49: 男・女 | O49: 小学生
B50: 4 | D50: 男・女 | O50: 未就学児
B51: 5 | D51: 男・女
B52: 6 | D52: 男・女
...
